Workbook

Sheet Control Panel
B2: Yearly Budget | E2: Quarter 1 | H2: Quarter 3
B4: Year | C4: 2024 | E4: Date | F4: September 30, | H4: Date | I4: March 31,
B5: Date | C5: June 30, | E5: YTD | F5: 0.1 | H5: YTD | I5: 0.75
B6: Category 1 | C6: Catering
B7: Category 2 | C7: Garden Coordination
B8: Project 1
B9: Project 2 | E9: Quarter 2 | H9: Quarter 4
B10: Project 3
B11: Project 4 | E11: Date | F11: December 31, | H11: Date | I11: June 30,
E12: YTD | F12: 0.4 | H12: YTD | I12: 1
B16: Password to unlock sheet = flourish

Sheet Annual Budget
A2: =CONCATENATE("Annual Budget ", 'Control Panel'!C4) -> Annual Budget 2024
A3: =CONCATENATE("For the Year Ending ", 'Control Panel'!C5," ", 'Control Panel'!C4) -> For the Year Ending June 30, 2024
A5: 4000 | B5: Revenue | D5: Kitchen | E5: FAD | F5: Literacy | G5: Admin | H5: Total
B6: Contracts | D6: 780693 | F6: 37000 | G6: 39600 | H6: =SUM(D6:G6) -> 857293
B7: Contracts | D7: =SUM(D6) -> 780693 | E7: =SUM(E6) -> 0 | F7: =SUM(F6) -> 37000 | G7: =SUM(G6) -> 39600 | H7: =SUM(D7:G7) -> 857293
B8: Donations | H8: =SUM(D8:G8) -> 0
B9: Donations | D9: =SUM(D8:D8) -> 0 | E9: =SUM(E8:E8) -> 0 | G9: =SUM(G8:G8) -> 0 | H9: =SUM(D9:G9) -> 0
B10: Events | H10: =SUM(D10:G10) -> 0
B11: Events | D11: =SUM(D10) -> 0 | E11: =SUM(E10) -> 0 | F11: =SUM(F10) -> 0 | G11: =SUM(G10) -> 0 | H11: =SUM(D11:G11) -> 0
B12: Federal Grants | H12: =SUM(D12:G12) -> 0
B13: Provincial Grants | D13: 90000 | E13: 120000 | G13: 21000 | H13: =SUM(D13:G13) -> 231000
B14: Municipal Grants | H14: =SUM(D14:G14) -> 0
B15: Foundations and Other Grants | F15: 11661 | G15: 79863 | H15: =SUM(D15:G15) -> 91524
B16: BC Gaming | H16: =SUM(D16:G16) -> 0
B17: Grants | D17: =SUM(D12:D16) -> 90000 | E17: =SUM(E12:E16) -> 120000 | F17: =SUM(F12:F16) -> 11661 | G17: =SUM(G12:G16) -> 100863 | H17: =SUM(D17:G17) -> 322524
B18: Investment Income | H18: =SUM(D18:G18) -> 0
B19: Interest Income | G19: 4000 | H19: =SUM(D19:G19) -> 4000
B20: Interest and Investments | D20: =SUM(D18:D19) -> 0 | E20: =SUM(E18:E19) -> 0 | F20: =SUM(F18:F19) -> 0 | G20: =SUM(G18:G19) -> 4000 | H20: =SUM(D20:G20) -> 4000
B21: Other | H21: =SUM(D21:G21) -> 0
B22: Other | D22: =SUM(D21) -> 0 | E22: =SUM(E21) -> 0 | F22: =SUM(F21) -> 0 | G22: =SUM(G21) -> 0 | H22: =SUM(D22:G22) -> 0
B23: Sales | D23: 18000 | H23: =SUM(D23:G23) -> 18000
B24: Sales | D24: =SUM(D23:D23) -> 18000 | E24: =SUM(E23:E23) -> 0 | F24: =SUM(F23:F23) -> 0 | G24: =SUM(G23:G23) -> 0 | H24: =SUM(D24:G24) -> 18000
B25: Sponsorship | D25: 5000 | H25: =SUM(D25:G25) -> 5000
B26: Sponsorship | D26: =SUM(D25) -> 5000 | E26: =SUM(E25) -> 0 | F26: =SUM(F25) -> 0 | G26: =SUM(G25) -> 0 | H26: =SUM(D26:G26) -> 5000
A27: 4999 | B27: Total | D27: =D20+D26+D17+D24+D9+D7+D11+D22 -> 893693 | E27: =E20+E26+E17+E24+E9+E7+E11+E22 -> 120000 | F27: =F20+F26+F17+F24+F9+F7+F11+F22 -> 48661 | G27: =G20+G26+G17+G24+G9+G7+G11+G22 -> 144463 | H27: =SUM(D27:G27) -> 1206817
A29: 5000 | B29: Expenses | D29: =D5 -> Kitchen | E29: =E5 -> FAD | F29: =F5 -> Literacy | G29: =G5 -> Admin | H29: Total
B30: Advertising | G30: 30000 | H30: =SUM(D30:G30) -> 30000
B31: Advertising and Promotion | D31: =D30 -> 0 | E31: =E30 -> 0 | F31: =F30 -> 0 | G31: =G30 -> 30000 | H31: =SUM(D31:G31) -> 30000
B32: Amortization Expense | H32: =SUM(D32:G32) -> 0
B33: Amortization | D33: =D32 -> 0 | E33: =E32 -> 0 | F33: =F32 -> 0 | G33: =G32 -> 0 | H33: =SUM(D33:G33) -> 0
B34: Credit Card Processing Fees | H34: =SUM(D34:G34) -> 0
B35: Interest & Bank Charges | G35: 1000 | H35: =SUM(D35:G35) -> 1000
B36: Penalties & Interest | H36: =SUM(D36:G36) -> 0
B37: Cash Over/Short | H37: =SUM(D37:G37) -> 0
B38: Bank Charges and Interest | D38: =SUM(D34:D37) -> 0 | E38: =SUM(E34:E37) -> 0 | F38: =SUM(F34:F37) -> 0 | G38: =SUM(G34:G37) -> 1000 | H38: =SUM(D38:G38) -> 1000
B39: Continuing Education | D39: 1000 | H39: =SUM(D39:G39) -> 1000
B40: Training | D40: 1500 | H40: =SUM(D40:G40) -> 1500
B41: Education and Training | D41: =SUM(D39:D40) -> 2500 | E41: =SUM(E39:E40) -> 0 | F41: =SUM(F39:F40) -> 0 | G41: =SUM(G39:G40) -> 0 | H41: =SUM(D41:G41) -> 2500
B42: Evaluation | G42: 5000 | H42: =SUM(D42:G42) -> 5000
B43: Evaluation | D43: =SUM(D42) -> 0 | E43: =SUM(E42) -> 0 | F43: =SUM(F42) -> 0 | G43: =SUM(G42) -> 5000 | H43: =SUM(D43:G43) -> 5000
...

Sheet Presentation Budget
A2: ='Annual Budget'!A2 -> Annual Budget 2024
A3: ='Annual Budget'!A3 -> For the Year Ending June 30, 2024
B5: Revenue | D5: ='Annual Budget'!D5 -> Kitchen | E5: ='Annual Budget'!E5 -> FAD | F5: ='Annual Budget'!F5 -> Literacy | G5: ='Annual Budget'!G5 -> Admin | H5: Total | I5: % of revenues
B6: Contracts | D6: ='Annual Budget'!D7 -> 780693 | E6: ='Annual Budget'!E7 -> 0 | F6: ='Annual Budget'!F7 -> 37000 | G6: ='Annual Budget'!G7 -> 39600 | H6: ='Annual Budget'!H7 -> 857293 | I6: =IFERROR(H6/$H$14," ") -> 0.71037531
B7: Donations | D7: ='Annual Budget'!D9 -> 0 | E7: ='Annual Budget'!E9 -> 0 | F7: ='Annual Budget'!F9 -> 0 | G7: ='Annual Budget'!G9 -> 0 | H7: ='Annual Budget'!H9 -> 0 | I7: =IFERROR(H7/$H$14," ") -> 0
B8: Events | D8: ='Annual Budget'!D11 -> 0 | E8: ='Annual Budget'!E11 -> 0 | F8: ='Annual Budget'!F11 -> 0 | G8: ='Annual Budget'!G11 -> 0 | H8: ='Annual Budget'!H11 -> 0 | I8: =IFERROR(H8/$H$14," ") -> 0
B9: Grants | D9: ='Annual Budget'!D17 -> 90000 | E9: ='Annual Budget'!E17 -> 120000 | F9: ='Annual Budget'!F17 -> 11661 | G9: ='Annual Budget'!G17 -> 100863 | H9: ='Annual Budget'!H17 -> 322524 | I9: =IFERROR(H9/$H$14," ") -> 0.26725179
B10: Interest and Investments | D10: ='Annual Budget'!D20 -> 0 | E10: ='Annual Budget'!E20 -> 0 | F10: ='Annual Budget'!F20 -> 0 | G10: ='Annual Budget'!G20 -> 4000 | H10: ='Annual Budget'!H20 -> 4000 | I10: =IFERROR(H10/$H$14," ") -> 0.0033145042
B11: Other | D11: ='Annual Budget'!D22 -> 0 | E11: ='Annual Budget'!E22 -> 0 | F11: ='Annual Budget'!F22 -> 0 | G11: ='Annual Budget'!G22 -> 0 | H11: ='Annual Budget'!H22 -> 0 | I11: =IFERROR(H11/$H$14," ") -> 0
B12: Sales | D12: ='Annual Budget'!D24 -> 18000 | E12: ='Annual Budget'!E24 -> 0 | F12: ='Annual Budget'!F24 -> 0 | G12: ='Annual Budget'!G24 -> 0 | H12: ='Annual Budget'!H24 -> 18000 | I12: =IFERROR(H12/$H$14," ") -> 0.014915269
B13: Sponsorship | D13: ='Annual Budget'!D26 -> 5000 | E13: ='Annual Budget'!E26 -> 0 | F13: ='Annual Budget'!F26 -> 0 | G13: ='Annual Budget'!G26 -> 0 | H13: ='Annual Budget'!H26 -> 5000 | I13: =IFERROR(H13/$H$14," ") -> 0.0041431302
B14: Total Revenue | D14: ='Annual Budget'!D27 -> 893693 | E14: ='Annual Budget'!E27 -> 120000 | F14: ='Annual Budget'!F27 -> 48661 | G14: ='Annual Budget'!G27 -> 144463 | H14: ='Annual Budget'!H27 -> 1206817 | I14: =IFERROR(H14/$H$14," ") -> 1
B15: % of revenues | D15: =IFERROR(D14/$H$14," ") -> 0.7405373 | E15: =IFERROR(E14/$H$14," ") -> 0.099435126 | F15: =IFERROR(F14/$H$14," ") -> 0.040321772 | G15: =IFERROR(G14/$H$14," ") -> 0.1197058 | H15: =IFERROR(H14/$H$14," ") -> 1
B17: Expenses | D17: =D5 -> Kitchen | E17: =E5 -> FAD | F17: =F5 -> Literacy | G17: =G5 -> Admin | H17: =H5 -> Total | I17: % of revenues
B18: Advertising & Promotion | D18: ='Annual Budget'!D31 -> 0 | E18: ='Annual Budget'!E31 -> 0 | F18: ='Annual Budget'!F31 -> 0 | G18: ='Annual Budget'!G31 -> 30000 | H18: ='Annual Budget'!H31 -> 30000 | I18: =IFERROR(H18/$H$14," ") -> 0.024858781
B19: Amortization | D19: ='Annual Budget'!D33 -> 0 | E19: ='Annual Budget'!E33 -> 0 | F19: ='Annual Budget'!F33 -> 0 | G19: ='Annual Budget'!G33 -> 0 | H19: ='Annual Budget'!H33 -> 0 | I19: =IFERROR(H19/$H$14," ") -> 0
B20: Bank Charges & Interest | D20: ='Annual Budget'!D38 -> 0 | E20: ='Annual Budget'!E38 -> 0 | F20: ='Annual Budget'!F38 -> 0 | G20: ='Annual Budget'!G38 -> 1000 | H20: ='Annual Budget'!H38 -> 1000 | I20: =IFERROR(H20/$H$14," ") -> 0.00082862605
B21: Education and Training | D21: ='Annual Budget'!D41 -> 2500 | E21: ='Annual Budget'!E41 -> 0 | F21: ='Annual Budget'!F41 -> 0 | G21: ='Annual Budget'!G41 -> 0 | H21: ='Annual Budget'!H41 -> 2500 | I21: =IFERROR(H21/$H$14," ") -> 0.0020715651
B22: Evaluation | D22: ='Annual Budget'!D43 -> 0 | E22: ='Annual Budget'!E43 -> 0 | F22: ='Annual Budget'!F43 -> 0 | G22: ='Annual Budget'!G43 -> 5000 | H22: ='Annual Budget'!H43 -> 5000 | I22: =IFERROR(H22/$H$14," ") -> 0.0041431302
B23: Human Resources | D23: ='Annual Budget'!D47 -> 339053 | E23: ='Annual Budget'!E47 -> 20175.3 | F23: ='Annual Budget'!F47 -> 40600 | G23: ='Annual Budget'!G47 -> 102187.7 | H23: ='Annual Budget'!H47 -> 502016 | I23: =IFERROR(H23/$H$14," ") -> 0.41598353
B24: Membership, Dues, Fees | D24: ='Annual Budget'!D49 -> 0 | E24: ='Annual Budget'!E49 -> 0 | F24: ='Annual Budget'!F49 -> 0 | G24: ='Annual Budget'!G49 -> 4000 | H24: ='Annual Budget'!H49 -> 4000 | I24: =IFERROR(H24/$H$14," ") -> 0.0033145042
B25: Office & Miscellaneous | D25: ='Annual Budget'!D55 -> 5000 | E25: ='Annual Budget'!E55 -> 0 | F25: ='Annual Budget'!F55 -> 0 | G25: ='Annual Budget'!G55 -> 12500 | H25: ='Annual Budget'!H55 -> 17500 | I25: =IFERROR(H25/$H$14," ") -> 0.014500956
B26: Occupancy Costs | D26: ='Annual Budget'!D58 -> 61200 | E26: ='Annual Budget'!E58 -> 0 | F26: ='Annual Budget'!F58 -> 0 | G26: ='Annual Budget'!G58 -> 3200 | H26: ='Annual Budget'!H58 -> 64400 | I26: =IFERROR(H26/$H$14," ") -> 0.053363517
B27: Professional Fees | D27: ='Annual Budget'!D60 -> 0 | E27: ='Annual Budget'!E60 -> 0 | F27: ='Annual Budget'!F60 -> 0 | G27: ='Annual Budget'!G60 -> 2500 | H27: ='Annual Budget'!H60 -> 2500 | I27: =IFERROR(H27/$H$14," ") -> 0.0020715651
B28: Purchased Supplies and Assets | D28: ='Annual Budget'!D65 -> 262500 | E28: ='Annual Budget'!E65 -> 82500 | F28: ='Annual Budget'!F65 -> 2000 | G28: ='Annual Budget'!G65 -> 0 | H28: ='Annual Budget'!H65 -> 347000 | I28: =IFERROR(H28/$H$14," ") -> 0.28753324
B29: Travel & Meals | D29: ='Annual Budget'!D70 -> 12500 | E29: ='Annual Budget'!E70 -> 4000 | F29: ='Annual Budget'!F70 -> 500 | G29: ='Annual Budget'!G70 -> 0 | H29: ='Annual Budget'!H70 -> 17000 | I29: =IFERROR(H29/$H$14," ") -> 0.014086643
B30: Total Expenses | D30: ='Annual Budget'!D71 -> 682753 | E30: ='Annual Budget'!E71 -> 106675.3 | F30: ='Annual Budget'!F71 -> 43100 | G30: ='Annual Budget'!G71 -> 160387.7 | H30: ='Annual Budget'!H71 -> 992916 | I30: =IFERROR(H30/$H$14," ") -> 0.82275606
B32: Net Income | D32: ='Annual Budget'!D73 -> 210940 | E32: ='Annual Budget'!E73 -> 13324.7 | F32: ='Annual Budget'!F73 -> 5561 | G32: ='Annual Budget'!G73 -> -15924.7 | H32: ='Annual Budget'!H73 -> 213901 | I32: =IFERROR(H32/$H$14," ") -> 0.17724394

Sheet Q1 Report
A1: Flourish! School Food Society
A2: Statement of Revenue & Expenses
A3: =CONCATENATE("For the Quarter Ending ", 'Control Panel'!F4," ", 'Control Panel'!C4-1) -> For the Quarter Ending September 30, 2023
D5: YTD Actuals | E5: YTD Budget | F5: YTD Variance | G5: % Variance | H5: =CONCATENATE('Control Panel'!C4," ", "Total Budget") -> 2024 Total Budget
B6: Revenue
B7: ='Presentation Budget'!B6 -> Contracts | E7: =H7*'Control Panel'!$F$5 -> 85729.3 | F7: =D7-E7 -> -85729.3 | G7: =IFERROR((D7-E7)/E7,0) -> -1 | H7: ='Presentation Budget'!H6 -> 857293
B8: ='Presentation Budget'!B7 -> Donations | E8: =H8*'Control Panel'!$F$5 -> 0 | F8: =D8-E8 -> 0 | G8: =IFERROR((D8-E8)/E8,0) -> 0 | H8: ='Presentation Budget'!H7 -> 0
B9: ='Presentation Budget'!B8 -> Events | E9: =H9*'Control Panel'!$F$5 -> 0 | F9: =D9-E9 -> 0 | G9: =IFERROR((D9-E9)/E9,0) -> 0 | H9: ='Presentation Budget'!H8 -> 0
B10: ='Presentation Budget'!B9 -> Grants | E10: =H10*'Control Panel'!$F$5 -> 32252.4 | F10: =D10-E10 -> -32252.4 | G10: =IFERROR((D10-E10)/E10,0) -> -1 | H10: ='Presentation Budget'!H9 -> 322524
B11: ='Presentation Budget'!B10 -> Interest and Investments | E11: =H11*'Control Panel'!$F$5 -> 400 | F11: =D11-E11 -> -400 | G11: =IFERROR((D11-E11)/E11,0) -> -1 | H11: ='Presentation Budget'!H10 -> 4000
B12: ='Presentation Budget'!B11 -> Other | E12: =H12*'Control Panel'!$F$5 -> 0 | F12: =D12-E12 -> 0 | G12: =IFERROR((D12-E12)/E12,0) -> 0 | H12: ='Presentation Budget'!H11 -> 0
B13: ='Presentation Budget'!B12 -> Sales | E13: =H13*'Control Panel'!$F$5 -> 1800 | F13: =D13-E13 -> -1800 | G13: =IFERROR((D13-E13)/E13,0) -> -1 | H13: ='Presentation Budget'!H12 -> 18000
B14: ='Presentation Budget'!B13 -> Sponsorship | E14: =H14*'Control Panel'!$F$5 -> 500 | F14: =D14-E14 -> -500 | G14: =IFERROR((D14-E14)/E14,0) -> -1 | H14: ='Presentation Budget'!H13 -> 5000
B15: Total Revenue | D15: =SUM(D7:D14) -> 0 | E15: =H15*'Control Panel'!$F$5 -> 120681.7 | F15: =D15-E15 -> -120681.7 | G15: =IFERROR((D15-E15)/E15,0) -> -1 | H15: ='Presentation Budget'!H14 -> 1206817
B17: Expenses
B18: ='Presentation Budget'!B18 -> Advertising & Promotion | E18: =H18*'Control Panel'!$F$5 -> 3000 | F18: =D18-E18 -> -3000 | G18: =IFERROR((D18-E18)/E18,0) -> -1 | H18: ='Presentation Budget'!H18 -> 30000
B19: ='Presentation Budget'!B19 -> Amortization | E19: =H19*'Control Panel'!$F$5 -> 0 | F19: =D19-E19 -> 0 | G19: =IFERROR((D19-E19)/E19,0) -> 0 | H19: ='Presentation Budget'!H19 -> 0
B20: ='Presentation Budget'!B20 -> Bank Charges & Interest | E20: =H20*'Control Panel'!$F$5 -> 100 | F20: =D20-E20 -> -100 | G20: =IFERROR((D20-E20)/E20,0) -> -1 | H20: ='Presentation Budget'!H20 -> 1000
B21: ='Presentation Budget'!B21 -> Education and Training | E21: =H21*'Control Panel'!$F$5 -> 250 | F21: =D21-E21 -> -250 | G21: =IFERROR((D21-E21)/E21,0) -> -1 | H21: ='Presentation Budget'!H21 -> 2500
B22: ='Presentation Budget'!B22 -> Evaluation | E22: =H22*'Control Panel'!$F$5 -> 500 | F22: =D22-E22 -> -500 | G22: =IFERROR((D22-E22)/E22,0) -> -1 | H22: ='Presentation Budget'!H22 -> 5000
B23: ='Presentation Budget'!B23 -> Human Resources | E23: =H23*'Control Panel'!$F$5 -> 50201.6 | F23: =D23-E23 -> -50201.6 | G23: =IFERROR((D23-E23)/E23,0) -> -1 | H23: ='Presentation Budget'!H23 -> 502016
B24: ='Presentation Budget'!B24 -> Membership, Dues, Fees | E24: =H24*'Control Panel'!$F$5 -> 400 | F24: =D24-E24 -> -400 | G24: =IFERROR((D24-E24)/E24,0) -> -1 | H24: ='Presentation Budget'!H24 -> 4000
B25: ='Presentation Budget'!B25 -> Office & Miscellaneous | E25: =H25*'Control Panel'!$F$5 -> 1750 | F25: =D25-E25 -> -1750 | G25: =IFERROR((D25-E25)/E25,0) -> -1 | H25: ='Presentation Budget'!H25 -> 17500
B26: ='Presentation Budget'!B26 -> Occupancy Costs | E26: =H26*'Control Panel'!$F$5 -> 6440 | F26: =D26-E26 -> -6440 | G26: =IFERROR((D26-E26)/E26,0) -> -1 | H26: ='Presentation Budget'!H26 -> 64400
B27: ='Presentation Budget'!B27 -> Professional Fees | E27: =H27*'Control Panel'!$F$5 -> 250 | F27: =D27-E27 -> -250 | G27: =IFERROR((D27-E27)/E27,0) -> -1 | H27: ='Presentation Budget'!H27 -> 2500
B28: ='Presentation Budget'!B28 -> Purchased Supplies and Assets | E28: =H28*'Control Panel'!$F$5 -> 34700 | F28: =D28-E28 -> -34700 | G28: =IFERROR((D28-E28)/E28,0) -> -1 | H28: ='Presentation Budget'!H28 -> 347000
B29: ='Presentation Budget'!B29 -> Travel & Meals | E29: =H29*'Control Panel'!$F$5 -> 1700 | F29: =D29-E29 -> -1700 | G29: =IFERROR((D29-E29)/E29,0) -> -1 | H29: ='Presentation Budget'!H29 -> 17000
B30: Total Expenses | D30: =SUM(D18:D29) -> 0 | E30: =H30*'Control Panel'!$F$5 -> 99291.6 | F30: =D30-E30 -> -99291.6 | G30: =IFERROR((D30-E30)/E30,0) -> -1 | H30: ='Presentation Budget'!H30 -> 992916
B32: Net Income | D32: =D15-D30 -> 0 | E32: =H32*'Control Panel'!$F$5 -> 21390.1 | F32: =D32-E32 -> -21390.1 | G32: =IFERROR((D32-E32)/ABS(E32),0) -> -1 | H32: ='Presentation Budget'!H32 -> 213901

Sheet Q2 Report
A1: Flourish! School Food Society
A2: Statement of Revenue & Expenses
A3: =CONCATENATE("For the Quarter Ending ", 'Control Panel'!F11," ", 'Control Panel'!C4-1) -> For the Quarter Ending December 31, 2023
D5: YTD Actuals | E5: YTD Budget | F5: YTD Variance | G5: % Variance | H5: =CONCATENATE('Control Panel'!C4," ", "Total Budget") -> 2024 Total Budget
B6: Revenue
B7: ='Presentation Budget'!B6 -> Contracts | E7: =H7*'Control Panel'!$F$12 -> 342917.2 | F7: =D7-E7 -> -342917.2 | G7: =IFERROR((D7-E7)/E7,0) -> -1 | H7: ='Presentation Budget'!H6 -> 857293
B8: ='Presentation Budget'!B7 -> Donations | E8: =H8*'Control Panel'!$F$12 -> 0 | F8: =D8-E8 -> 0 | G8: =IFERROR((D8-E8)/E8,0) -> 0 | H8: ='Presentation Budget'!H7 -> 0
B9: ='Presentation Budget'!B8 -> Events | E9: =H9*'Control Panel'!$F$12 -> 0 | F9: =D9-E9 -> 0 | G9: =IFERROR((D9-E9)/E9,0) -> 0 | H9: ='Presentation Budget'!H8 -> 0
B10: ='Presentation Budget'!B9 -> Grants | E10: =H10*'Control Panel'!$F$12 -> 129009.6 | F10: =D10-E10 -> -129009.6 | G10: =IFERROR((D10-E10)/E10,0) -> -1 | H10: ='Presentation Budget'!H9 -> 322524
B11: ='Presentation Budget'!B10 -> Interest and Investments | E11: =H11*'Control Panel'!$F$12 -> 1600 | F11: =D11-E11 -> -1600 | G11: =IFERROR((D11-E11)/E11,0) -> -1 | H11: ='Presentation Budget'!H10 -> 4000
B12: ='Presentation Budget'!B11 -> Other | E12: =H12*'Control Panel'!$F$12 -> 0 | F12: =D12-E12 -> 0 | G12: =IFERROR((D12-E12)/E12,0) -> 0 | H12: ='Presentation Budget'!H11 -> 0
B13: ='Presentation Budget'!B12 -> Sales | E13: =H13*'Control Panel'!$F$12 -> 7200 | F13: =D13-E13 -> -7200 | G13: =IFERROR((D13-E13)/E13,0) -> -1 | H13: ='Presentation Budget'!H12 -> 18000
B14: ='Presentation Budget'!B13 -> Sponsorship | E14: =H14*'Control Panel'!$F$12 -> 2000 | F14: =D14-E14 -> -2000 | G14: =IFERROR((D14-E14)/E14,0) -> -1 | H14: ='Presentation Budget'!H13 -> 5000
B15: Total Revenue | D15: =SUM(D7:D14) -> 0 | E15: =H15*'Control Panel'!$F$12 -> 482726.8 | F15: =D15-E15 -> -482726.8 | G15: =IFERROR((D15-E15)/E15,0) -> -1 | H15: ='Presentation Budget'!H14 -> 1206817
B17: Expenses
B18: ='Presentation Budget'!B18 -> Advertising & Promotion | E18: =H18*'Control Panel'!$F$12 -> 12000 | F18: =D18-E18 -> -12000 | G18: =IFERROR((D18-E18)/E18,0) -> -1 | H18: ='Presentation Budget'!H18 -> 30000
B19: ='Presentation Budget'!B19 -> Amortization | E19: =H19*'Control Panel'!$F$12 -> 0 | F19: =D19-E19 -> 0 | G19: =IFERROR((D19-E19)/E19,0) -> 0 | H19: ='Presentation Budget'!H19 -> 0
B20: ='Presentation Budget'!B20 -> Bank Charges & Interest | E20: =H20*'Control Panel'!$F$12 -> 400 | F20: =D20-E20 -> -400 | G20: =IFERROR((D20-E20)/E20,0) -> -1 | H20: ='Presentation Budget'!H20 -> 1000
B21: ='Presentation Budget'!B21 -> Education and Training | E21: =H21*'Control Panel'!$F$12 -> 1000 | F21: =D21-E21 -> -1000 | G21: =IFERROR((D21-E21)/E21,0) -> -1 | H21: ='Presentation Budget'!H21 -> 2500
B22: ='Presentation Budget'!B22 -> Evaluation | E22: =H22*'Control Panel'!$F$12 -> 2000 | F22: =D22-E22 -> -2000 | G22: =IFERROR((D22-E22)/E22,0) -> -1 | H22: ='Presentation Budget'!H22 -> 5000
B23: ='Presentation Budget'!B23 -> Human Resources | E23: =H23*'Control Panel'!$F$12 -> 200806.4 | F23: =D23-E23 -> -200806.4 | G23: =IFERROR((D23-E23)/E23,0) -> -1 | H23: ='Presentation Budget'!H23 -> 502016
B24: ='Presentation Budget'!B24 -> Membership, Dues, Fees | E24: =H24*'Control Panel'!$F$12 -> 1600 | F24: =D24-E24 -> -1600 | G24: =IFERROR((D24-E24)/E24,0) -> -1 | H24: ='Presentation Budget'!H24 -> 4000
B25: ='Presentation Budget'!B25 -> Office & Miscellaneous | E25: =H25*'Control Panel'!$F$12 -> 7000 | F25: =D25-E25 -> -7000 | G25: =IFERROR((D25-E25)/E25,0) -> -1 | H25: ='Presentation Budget'!H25 -> 17500
B26: ='Presentation Budget'!B26 -> Occupancy Costs | E26: =H26*'Control Panel'!$F$12 -> 25760 | F26: =D26-E26 -> -25760 | G26: =IFERROR((D26-E26)/E26,0) -> -1 | H26: ='Presentation Budget'!H26 -> 64400
B27: ='Presentation Budget'!B27 -> Professional Fees | E27: =H27*'Control Panel'!$F$12 -> 1000 | F27: =D27-E27 -> -1000 | G27: =IFERROR((D27-E27)/E27,0) -> -1 | H27: ='Presentation Budget'!H27 -> 2500
B28: ='Presentation Budget'!B28 -> Purchased Supplies and Assets | E28: =H28*'Control Panel'!$F$12 -> 138800 | F28: =D28-E28 -> -138800 | G28: =IFERROR((D28-E28)/E28,0) -> -1 | H28: ='Presentation Budget'!H28 -> 347000
B29: ='Presentation Budget'!B29 -> Travel & Meals | E29: =H29*'Control Panel'!$F$12 -> 6800 | F29: =D29-E29 -> -6800 | G29: =IFERROR((D29-E29)/E29,0) -> -1 | H29: ='Presentation Budget'!H29 -> 17000
B30: Total Expenses | D30: =SUM(D18:D29) -> 0 | E30: =H30*'Control Panel'!$F$12 -> 397166.4 | F30: =D30-E30 -> -397166.4 | G30: =IFERROR((D30-E30)/E30,0) -> -1 | H30: ='Presentation Budget'!H30 -> 992916
B32: Net Income | D32: =D15-D30 -> 0 | E32: =H32*'Control Panel'!$F$12 -> 85560.4 | F32: =D32-E32 -> -85560.4 | G32: =IFERROR((D32-E32)/ABS(E32),0) -> -1 | H32: ='Presentation Budget'!H32 -> 213901

Sheet Q3 Report
A1: Flourish! School Food Society
A2: Statement of Revenue & Expenses
A3: =CONCATENATE("For the Quarter Ending ", 'Control Panel'!I4," ", 'Control Panel'!C4) -> For the Quarter Ending March 31, 2024
D5: YTD Actuals | E5: YTD Budget | F5: YTD Variance | G5: % Variance | H5: =CONCATENATE('Control Panel'!C4," ", "Total Budget") -> 2024 Total Budget
B6: Revenue
B7: ='Presentation Budget'!B6 -> Contracts | E7: =H7*'Control Panel'!$I$5 -> 642969.75 | F7: =D7-E7 -> -642969.75 | G7: =IFERROR((D7-E7)/E7,0) -> -1 | H7: ='Presentation Budget'!H6 -> 857293
B8: ='Presentation Budget'!B7 -> Donations | E8: =H8*'Control Panel'!$I$5 -> 0 | F8: =D8-E8 -> 0 | G8: =IFERROR((D8-E8)/E8,0) -> 0 | H8: ='Presentation Budget'!H7 -> 0
B9: ='Presentation Budget'!B8 -> Events | E9: =H9*'Control Panel'!$I$5 -> 0 | F9: =D9-E9 -> 0 | G9: =IFERROR((D9-E9)/E9,0) -> 0 | H9: ='Presentation Budget'!H8 -> 0
B10: ='Presentation Budget'!B9 -> Grants | E10: =H10*'Control Panel'!$I$5 -> 241893 | F10: =D10-E10 -> -241893 | G10: =IFERROR((D10-E10)/E10,0) -> -1 | H10: ='Presentation Budget'!H9 -> 322524
B11: ='Presentation Budget'!B10 -> Interest and Investments | E11: =H11*'Control Panel'!$I$5 -> 3000 | F11: =D11-E11 -> -3000 | G11: =IFERROR((D11-E11)/E11,0) -> -1 | H11: ='Presentation Budget'!H10 -> 4000
B12: ='Presentation Budget'!B11 -> Other | E12: =H12*'Control Panel'!$I$5 -> 0 | F12: =D12-E12 -> 0 | G12: =IFERROR((D12-E12)/E12,0) -> 0 | H12: ='Presentation Budget'!H11 -> 0
B13: ='Presentation Budget'!B12 -> Sales | E13: =H13*'Control Panel'!$I$5 -> 13500 | F13: =D13-E13 -> -13500 | G13: =IFERROR((D13-E13)/E13,0) -> -1 | H13: ='Presentation Budget'!H12 -> 18000
B14: ='Presentation Budget'!B13 -> Sponsorship | E14: =H14*'Control Panel'!$I$5 -> 3750 | F14: =D14-E14 -> -3750 | G14: =IFERROR((D14-E14)/E14,0) -> -1 | H14: ='Presentation Budget'!H13 -> 5000
B15: Total Revenue | D15: =SUM(D7:D14) -> 0 | E15: =H15*'Control Panel'!$I$5 -> 905112.75 | F15: =D15-E15 -> -905112.75 | G15: =IFERROR((D15-E15)/E15,0) -> -1 | H15: ='Presentation Budget'!H14 -> 1206817
B17: Expenses
B18: ='Presentation Budget'!B18 -> Advertising & Promotion | E18: =H18*'Control Panel'!$I$5 -> 22500 | F18: =D18-E18 -> -22500 | G18: =IFERROR((D18-E18)/E18,0) -> -1 | H18: ='Presentation Budget'!H18 -> 30000
B19: ='Presentation Budget'!B19 -> Amortization | E19: =H19*'Control Panel'!$I$5 -> 0 | F19: =D19-E19 -> 0 | G19: =IFERROR((D19-E19)/E19,0) -> 0 | H19: ='Presentation Budget'!H19 -> 0
B20: ='Presentation Budget'!B20 -> Bank Charges & Interest | E20: =H20*'Control Panel'!$I$5 -> 750 | F20: =D20-E20 -> -750 | G20: =IFERROR((D20-E20)/E20,0) -> -1 | H20: ='Presentation Budget'!H20 -> 1000
B21: ='Presentation Budget'!B21 -> Education and Training | E21: =H21*'Control Panel'!$I$5 -> 1875 | F21: =D21-E21 -> -1875 | G21: =IFERROR((D21-E21)/E21,0) -> -1 | H21: ='Presentation Budget'!H21 -> 2500
B22: ='Presentation Budget'!B22 -> Evaluation | E22: =H22*'Control Panel'!$I$5 -> 3750 | F22: =D22-E22 -> -3750 | G22: =IFERROR((D22-E22)/E22,0) -> -1 | H22: ='Presentation Budget'!H22 -> 5000
B23: ='Presentation Budget'!B23 -> Human Resources | E23: =H23*'Control Panel'!$I$5 -> 376512 | F23: =D23-E23 -> -376512 | G23: =IFERROR((D23-E23)/E23,0) -> -1 | H23: ='Presentation Budget'!H23 -> 502016
B24: ='Presentation Budget'!B24 -> Membership, Dues, Fees | E24: =H24*'Control Panel'!$I$5 -> 3000 | F24: =D24-E24 -> -3000 | G24: =IFERROR((D24-E24)/E24,0) -> -1 | H24: ='Presentation Budget'!H24 -> 4000
B25: ='Presentation Budget'!B25 -> Office & Miscellaneous | E25: =H25*'Control Panel'!$I$5 -> 13125 | F25: =D25-E25 -> -13125 | G25: =IFERROR((D25-E25)/E25,0) -> -1 | H25: ='Presentation Budget'!H25 -> 17500
B26: ='Presentation Budget'!B26 -> Occupancy Costs | E26: =H26*'Control Panel'!$I$5 -> 48300 | F26: =D26-E26 -> -48300 | G26: =IFERROR((D26-E26)/E26,0) -> -1 | H26: ='Presentation Budget'!H26 -> 64400
B27: ='Presentation Budget'!B27 -> Professional Fees | E27: =H27*'Control Panel'!$I$5 -> 1875 | F27: =D27-E27 -> -1875 | G27: =IFERROR((D27-E27)/E27,0) -> -1 | H27: ='Presentation Budget'!H27 -> 2500
B28: ='Presentation Budget'!B28 -> Purchased Supplies and Assets | E28: =H28*'Control Panel'!$I$5 -> 260250 | F28: =D28-E28 -> -260250 | G28: =IFERROR((D28-E28)/E28,0) -> -1 | H28: ='Presentation Budget'!H28 -> 347000
B29: ='Presentation Budget'!B29 -> Travel & Meals | E29: =H29*'Control Panel'!$I$5 -> 12750 | F29: =D29-E29 -> -12750 | G29: =IFERROR((D29-E29)/E29,0) -> -1 | H29: ='Presentation Budget'!H29 -> 17000
B30: Total Expenses | D30: =SUM(D18:D29) -> 0 | E30: =H30*'Control Panel'!$I$5 -> 744687 | F30: =D30-E30 -> -744687 | G30: =IFERROR((D30-E30)/E30,0) -> -1 | H30: ='Presentation Budget'!H30 -> 992916
B32: Net Income | D32: =D15-D30 -> 0 | E32: =H32*'Control Panel'!$I$5 -> 160425.75 | F32: =D32-E32 -> -160425.75 | G32: =IFERROR((D32-E32)/ABS(E32),0) -> -1 | H32: ='Presentation Budget'!H32 -> 213901

Sheet Q4 Report
A1: Flourish! School Food Society
A2: Statement of Revenue & Expenses
A3: =CONCATENATE("For the Quarter Ending ", 'Control Panel'!I11," ", 'Control Panel'!C4) -> For the Quarter Ending June 30, 2024
D5: YTD Actuals | E5: YTD Budget | F5: YTD Variance | G5: % Variance | H5: =CONCATENATE('Control Panel'!C4," ", "Total Budget") -> 2024 Total Budget
B6: Revenue
B7: ='Presentation Budget'!B6 -> Contracts | E7: =H7*'Control Panel'!$I$12 -> 857293 | F7: =D7-E7 -> -857293 | G7: =IFERROR((D7-E7)/E7,0) -> -1 | H7: ='Presentation Budget'!H6 -> 857293
B8: ='Presentation Budget'!B7 -> Donations | E8: =H8*'Control Panel'!$I$12 -> 0 | F8: =D8-E8 -> 0 | G8: =IFERROR((D8-E8)/E8,0) -> 0 | H8: ='Presentation Budget'!H7 -> 0
B9: ='Presentation Budget'!B8 -> Events | E9: =H9*'Control Panel'!$I$12 -> 0 | F9: =D9-E9 -> 0 | G9: =IFERROR((D9-E9)/E9,0) -> 0 | H9: ='Presentation Budget'!H8 -> 0
B10: ='Presentation Budget'!B9 -> Grants | E10: =H10*'Control Panel'!$I$12 -> 322524 | F10: =D10-E10 -> -322524 | G10: =IFERROR((D10-E10)/E10,0) -> -1 | H10: ='Presentation Budget'!H9 -> 322524
B11: ='Presentation Budget'!B10 -> Interest and Investments | E11: =H11*'Control Panel'!$I$12 -> 4000 | F11: =D11-E11 -> -4000 | G11: =IFERROR((D11-E11)/E11,0) -> -1 | H11: ='Presentation Budget'!H10 -> 4000
B12: ='Presentation Budget'!B11 -> Other | E12: =H12*'Control Panel'!$I$12 -> 0 | F12: =D12-E12 -> 0 | G12: =IFERROR((D12-E12)/E12,0) -> 0 | H12: ='Presentation Budget'!H11 -> 0
B13: ='Presentation Budget'!B12 -> Sales | E13: =H13*'Control Panel'!$I$12 -> 18000 | F13: =D13-E13 -> -18000 | G13: =IFERROR((D13-E13)/E13,0) -> -1 | H13: ='Presentation Budget'!H12 -> 18000
B14: ='Presentation Budget'!B13 -> Sponsorship | E14: =H14*'Control Panel'!$I$12 -> 5000 | F14: =D14-E14 -> -5000 | G14: =IFERROR((D14-E14)/E14,0) -> -1 | H14: ='Presentation Budget'!H13 -> 5000
B15: Total Revenue | D15: =SUM(D7:D14) -> 0 | E15: =H15*'Control Panel'!$I$12 -> 1206817 | F15: =D15-E15 -> -1206817 | G15: =IFERROR((D15-E15)/E15,0) -> -1 | H15: ='Presentation Budget'!H14 -> 1206817
B17: Expenses
B18: ='Presentation Budget'!B18 -> Advertising & Promotion | E18: =H18*'Control Panel'!$I$12 -> 30000 | F18: =D18-E18 -> -30000 | G18: =IFERROR((D18-E18)/E18,0) -> -1 | H18: ='Presentation Budget'!H18 -> 30000
B19: ='Presentation Budget'!B19 -> Amortization | E19: =H19*'Control Panel'!$I$12 -> 0 | F19: =D19-E19 -> 0 | G19: =IFERROR((D19-E19)/E19,0) -> 0 | H19: ='Presentation Budget'!H19 -> 0
B20: ='Presentation Budget'!B20 -> Bank Charges & Interest | E20: =H20*'Control Panel'!$I$12 -> 1000 | F20: =D20-E20 -> -1000 | G20: =IFERROR((D20-E20)/E20,0) -> -1 | H20: ='Presentation Budget'!H20 -> 1000
B21: ='Presentation Budget'!B21 -> Education and Training | E21: =H21*'Control Panel'!$I$12 -> 2500 | F21: =D21-E21 -> -2500 | G21: =IFERROR((D21-E21)/E21,0) -> -1 | H21: ='Presentation Budget'!H21 -> 2500
B22: ='Presentation Budget'!B22 -> Evaluation | E22: =H22*'Control Panel'!$I$12 -> 5000 | F22: =D22-E22 -> -5000 | G22: =IFERROR((D22-E22)/E22,0) -> -1 | H22: ='Presentation Budget'!H22 -> 5000
B23: ='Presentation Budget'!B23 -> Human Resources | E23: =H23*'Control Panel'!$I$12 -> 502016 | F23: =D23-E23 -> -502016 | G23: =IFERROR((D23-E23)/E23,0) -> -1 | H23: ='Presentation Budget'!H23 -> 502016
B24: ='Presentation Budget'!B24 -> Membership, Dues, Fees | E24: =H24*'Control Panel'!$I$12 -> 4000 | F24: =D24-E24 -> -4000 | G24: =IFERROR((D24-E24)/E24,0) -> -1 | H24: ='Presentation Budget'!H24 -> 4000
B25: ='Presentation Budget'!B25 -> Office & Miscellaneous | E25: =H25*'Control Panel'!$I$12 -> 17500 | F25: =D25-E25 -> -17500 | G25: =IFERROR((D25-E25)/E25,0) -> -1 | H25: ='Presentation Budget'!H25 -> 17500
B26: ='Presentation Budget'!B26 -> Occupancy Costs | E26: =H26*'Control Panel'!$I$12 -> 64400 | F26: =D26-E26 -> -64400 | G26: =IFERROR((D26-E26)/E26,0) -> -1 | H26: ='Presentation Budget'!H26 -> 64400
B27: ='Presentation Budget'!B27 -> Professional Fees | E27: =H27*'Control Panel'!$I$12 -> 2500 | F27: =D27-E27 -> -2500 | G27: =IFERROR((D27-E27)/E27,0) -> -1 | H27: ='Presentation Budget'!H27 -> 2500
B28: ='Presentation Budget'!B28 -> Purchased Supplies and Assets | E28: =H28*'Control Panel'!$I$12 -> 347000 | F28: =D28-E28 -> -347000 | G28: =IFERROR((D28-E28)/E28,0) -> -1 | H28: ='Presentation Budget'!H28 -> 347000
B29: ='Presentation Budget'!B29 -> Travel & Meals | E29: =H29*'Control Panel'!$I$12 -> 17000 | F29: =D29-E29 -> -17000 | G29: =IFERROR((D29-E29)/E29,0) -> -1 | H29: ='Presentation Budget'!H29 -> 17000
B30: Total Expenses | D30: =SUM(D18:D29) -> 0 | E30: =H30*'Control Panel'!$I$12 -> 992916 | F30: =D30-E30 -> -992916 | G30: =IFERROR((D30-E30)/E30,0) -> -1 | H30: ='Presentation Budget'!H30 -> 992916
B32: Net Income | D32: =D15-D30 -> 0 | E32: =H32*'Control Panel'!$I$12 -> 213901 | F32: =D32-E32 -> -213901 | G32: =IFERROR((D32-E32)/ABS(E32),0) -> -1 | H32: ='Presentation Budget'!H32 -> 213901
